BEGIN:VCALENDAR
VERSION:2.0
PRODID:-//Déj&#039;Business - ECPv6.15.20//NONSGML v1.0//EN
CALSCALE:GREGORIAN
METHOD:PUBLISH
X-WR-CALNAME:Déj&#039;Business
X-ORIGINAL-URL:https://dej-business.fr
X-WR-CALDESC:Évènements pour Déj&#039;Business
REFRESH-INTERVAL;VALUE=DURATION:PT1H
X-Robots-Tag:noindex
X-PUBLISHED-TTL:PT1H
BEGIN:VTIMEZONE
TZID:Europe/Paris
BEGIN:DAYLIGHT
TZOFFSETFROM:+0100
TZOFFSETTO:+0200
TZNAME:CEST
DTSTART:20230326T010000
END:DAYLIGHT
BEGIN:STANDARD
TZOFFSETFROM:+0200
TZOFFSETTO:+0100
TZNAME:CET
DTSTART:20231029T010000
END:STANDARD
BEGIN:DAYLIGHT
TZOFFSETFROM:+0100
TZOFFSETTO:+0200
TZNAME:CEST
DTSTART:20240331T010000
END:DAYLIGHT
BEGIN:STANDARD
TZOFFSETFROM:+0200
TZOFFSETTO:+0100
TZNAME:CET
DTSTART:20241027T010000
END:STANDARD
BEGIN:DAYLIGHT
TZOFFSETFROM:+0100
TZOFFSETTO:+0200
TZNAME:CEST
DTSTART:20250330T010000
END:DAYLIGHT
BEGIN:STANDARD
TZOFFSETFROM:+0200
TZOFFSETTO:+0100
TZNAME:CET
DTSTART:20251026T010000
END:STANDARD
END:VTIMEZONE
BEGIN:VEVENT
DTSTART;TZID=Europe/Paris:20240919T113000
DTEND;TZID=Europe/Paris:20240919T140000
DTSTAMP:20260422T033646
CREATED:20240716T125214Z
LAST-MODIFIED:20260416T093827Z
UID:100604-1726745400-1726754400@dej-business.fr
SUMMARY:Dépassement de soi\, comment atteindre les sommets ?
DESCRIPTION:Entrepreneur\, aventurier de l'extrême et conférencier\, Thierry Corbarieu possède plusieurs cordes à son arc.😀\nEn quête permanente de nouveaux défis\, il interviendra lors de ce Déj'Pétanque pour nous partager ses expériences.\n🤜Prêt(e) à défier l’Expert dans l’émission et à remporter le tournoi International de pétanque de Balma ? \nAmbiance fun\, pro et décontractée garantie ! \n\n11h30 : Accueil autour d'un verre. 😀\n12h15 : Émission TV interactive : "Dépassement de soi\, comment atteindre les sommets ?"   avec un invité à la hauteur : Thierry Corbarieu.\n13h : Cocktail déjeunatoire\, au soleil et autour d'un tournoi de pétanque\nLieu : Agence Impact Evolution\, 7 Rte de Pin Balma\, 31130 Balma\nHoraires : (à partir de) 11h30-14h
URL:https://dej-business.fr/event/depassement-de-soi-comment-atteindre-les-sommets/
LOCATION:Impact Evolution\, 7 route de pin balma\, Balma\, 31130\, France
CATEGORIES:dej petanque
ATTACH;FMTTYPE=image/webp:https://dej-business.fr/wp-content/uploads/2024/07/Thierry-Corbarieu-dej-petanque.webp
END:VEVENT
END:VCALENDAR