BEGIN:VCALENDAR
VERSION:2.0
PRODID:-//Déj&#039;Business - ECPv6.15.20//NONSGML v1.0//EN
CALSCALE:GREGORIAN
METHOD:PUBLISH
X-ORIGINAL-URL:https://dej-business.fr
X-WR-CALDESC:Évènements pour Déj&#039;Business
REFRESH-INTERVAL;VALUE=DURATION:PT1H
X-Robots-Tag:noindex
X-PUBLISHED-TTL:PT1H
BEGIN:VTIMEZONE
TZID:Europe/Paris
BEGIN:DAYLIGHT
TZOFFSETFROM:+0100
TZOFFSETTO:+0200
TZNAME:CEST
DTSTART:20230326T010000
END:DAYLIGHT
BEGIN:STANDARD
TZOFFSETFROM:+0200
TZOFFSETTO:+0100
TZNAME:CET
DTSTART:20231029T010000
END:STANDARD
BEGIN:DAYLIGHT
TZOFFSETFROM:+0100
TZOFFSETTO:+0200
TZNAME:CEST
DTSTART:20240331T010000
END:DAYLIGHT
BEGIN:STANDARD
TZOFFSETFROM:+0200
TZOFFSETTO:+0100
TZNAME:CET
DTSTART:20241027T010000
END:STANDARD
BEGIN:DAYLIGHT
TZOFFSETFROM:+0100
TZOFFSETTO:+0200
TZNAME:CEST
DTSTART:20250330T010000
END:DAYLIGHT
BEGIN:STANDARD
TZOFFSETFROM:+0200
TZOFFSETTO:+0100
TZNAME:CET
DTSTART:20251026T010000
END:STANDARD
END:VTIMEZONE
BEGIN:VEVENT
DTSTART;TZID=Europe/Paris:20240703T180000
DTEND;TZID=Europe/Paris:20240703T213000
DTSTAMP:20260422T082825
CREATED:20240501T101308Z
LAST-MODIFIED:20260416T093824Z
UID:100225-1720029600-1720042200@dej-business.fr
SUMMARY:On fête l’été ensemble
DESCRIPTION:Le programme\, ça donne quoi ?\n\n18h00 : Accueil autour d'un verre\n18h30 : Émission TV interactive 🧠 "Comment dompter un fournisseur/ collaborateur quand ça part en cacahuète ?"🧠 avec notre invitée Gwennan Le Roux\, qui sort mi-juin son tout premier livre sur la communication au sein des relations humaines !\n19h30 : Cocktail dînatoire :Coco et cocotte : LE Food Truck façon grand-mère.\n19h30- 21h30 : Animation et minis jeux Kermess dans le jardin de l'agence\, sans oublier le tournoi de pétanque\, bien sur !
URL:https://dej-business.fr/event/on-fete-lete-ensemble/
CATEGORIES:dej petanque
ATTACH;FMTTYPE=image/webp:https://dej-business.fr/wp-content/uploads/2024/05/afterwork.webp
END:VEVENT
END:VCALENDAR