BEGIN:VCALENDAR
VERSION:2.0
PRODID:-//Déj&#039;Business - ECPv6.15.20//NONSGML v1.0//EN
CALSCALE:GREGORIAN
METHOD:PUBLISH
X-WR-CALNAME:Déj&#039;Business
X-ORIGINAL-URL:https://dej-business.fr
X-WR-CALDESC:Évènements pour Déj&#039;Business
REFRESH-INTERVAL;VALUE=DURATION:PT1H
X-Robots-Tag:noindex
X-PUBLISHED-TTL:PT1H
BEGIN:VTIMEZONE
TZID:Europe/Paris
BEGIN:DAYLIGHT
TZOFFSETFROM:+0100
TZOFFSETTO:+0200
TZNAME:CEST
DTSTART:20240331T010000
END:DAYLIGHT
BEGIN:STANDARD
TZOFFSETFROM:+0200
TZOFFSETTO:+0100
TZNAME:CET
DTSTART:20241027T010000
END:STANDARD
BEGIN:DAYLIGHT
TZOFFSETFROM:+0100
TZOFFSETTO:+0200
TZNAME:CEST
DTSTART:20250330T010000
END:DAYLIGHT
BEGIN:STANDARD
TZOFFSETFROM:+0200
TZOFFSETTO:+0100
TZNAME:CET
DTSTART:20251026T010000
END:STANDARD
BEGIN:DAYLIGHT
TZOFFSETFROM:+0100
TZOFFSETTO:+0200
TZNAME:CEST
DTSTART:20260329T010000
END:DAYLIGHT
BEGIN:STANDARD
TZOFFSETFROM:+0200
TZOFFSETTO:+0100
TZNAME:CET
DTSTART:20261025T010000
END:STANDARD
END:VTIMEZONE
BEGIN:VEVENT
DTSTART;TZID=Europe/Paris:20250522T113000
DTEND;TZID=Europe/Paris:20250522T140000
DTSTAMP:20260421T134618
CREATED:20241127T113021Z
LAST-MODIFIED:20260416T093836Z
UID:100830-1747913400-1747922400@dej-business.fr
SUMMARY:Déj'Business - 22 mai
DESCRIPTION:🤜Prêt(e) à échanger avec l’Expert dans l’émission et à remporter le tournoi International de pétanque de Balma ? \nAmbiance fun\, pro et décontractée garantie ! \n\n11h30 : Accueil autour d’un verre. 😀\n12h15 : Émission TV interactive : « Et si le/la dirigeant.e est malade : que devient l’entreprise ? » Venez découvrir le parcours atypique et tellement inspirant de Sophie Moreau à travers son projet Kilimanjaro !\n13h : Cocktail déjeunatoire autour du tournoi de pétanque\nLieu : Cabinet de communication Impact Evolution\, 7 Rte de Pin Balma\, 31130 Balma\nHoraires : (à partir de) 11h30-14h
URL:https://dej-business.fr/event/dejbusiness-15-mai/
CATEGORIES:dej petanque
ATTACH;FMTTYPE=image/webp:https://dej-business.fr/wp-content/uploads/2024/11/dej-business-mai.webp
END:VEVENT
END:VCALENDAR