BEGIN:VCALENDAR
VERSION:2.0
PRODID:-//Déj&#039;Business - ECPv6.15.20//NONSGML v1.0//EN
CALSCALE:GREGORIAN
METHOD:PUBLISH
X-ORIGINAL-URL:https://dej-business.fr
X-WR-CALDESC:Évènements pour Déj&#039;Business
REFRESH-INTERVAL;VALUE=DURATION:PT1H
X-Robots-Tag:noindex
X-PUBLISHED-TTL:PT1H
BEGIN:VTIMEZONE
TZID:Europe/Paris
BEGIN:DAYLIGHT
TZOFFSETFROM:+0100
TZOFFSETTO:+0200
TZNAME:CEST
DTSTART:20230326T010000
END:DAYLIGHT
BEGIN:STANDARD
TZOFFSETFROM:+0200
TZOFFSETTO:+0100
TZNAME:CET
DTSTART:20231029T010000
END:STANDARD
BEGIN:DAYLIGHT
TZOFFSETFROM:+0100
TZOFFSETTO:+0200
TZNAME:CEST
DTSTART:20240331T010000
END:DAYLIGHT
BEGIN:STANDARD
TZOFFSETFROM:+0200
TZOFFSETTO:+0100
TZNAME:CET
DTSTART:20241027T010000
END:STANDARD
BEGIN:DAYLIGHT
TZOFFSETFROM:+0100
TZOFFSETTO:+0200
TZNAME:CEST
DTSTART:20250330T010000
END:DAYLIGHT
BEGIN:STANDARD
TZOFFSETFROM:+0200
TZOFFSETTO:+0100
TZNAME:CET
DTSTART:20251026T010000
END:STANDARD
END:VTIMEZONE
BEGIN:VEVENT
DTSTART;TZID=Europe/Paris:20240605T113000
DTEND;TZID=Europe/Paris:20240605T140000
DTSTAMP:20260422T064556
CREATED:20240430T131511Z
LAST-MODIFIED:20260416T093820Z
UID:100180-1717587000-1717596000@dej-business.fr
SUMMARY:Embarquez vos équipes au large
DESCRIPTION:Vos business évoluent. La dynamique développement est là. Il vous faut fédérer. Mais comment ? 😀\n🤜Prêt(e) à défier l’Expert dans l’émission et à remporter le tournoi International de pétanque de Balma ? \nAmbiance fun\, pro et décontractée garantie ! \n\n11h30 : Accueil autour d'un verre. 😀\n12h15 : Émission TV spéciale : 🌊"Embarquez vos équipes au large"🌊  avec un invité de taille : Matthieu Sapin\, Skipper professionnel.« Seuls\, nous ne sommes que des gouttes d’eau. Ensemble\, nous formons un océan. » — Ryunosuke Satoro\, auteur japonais.\n13h : Cocktail déjeunatoire\, au soleil !\nLieu : Agence Impact Evolution\, 7 Rte de Pin Balma\, 31130 Balma\nHoraires : (à partir de) 11h30-14h
URL:https://dej-business.fr/event/embarquez-vos-equipes-au-large/
LOCATION:Impact Evolution\, 7 route de pin balma\, Balma\, 31130\, France
CATEGORIES:dej petanque
ATTACH;FMTTYPE=image/webp:https://dej-business.fr/wp-content/uploads/2024/04/Matthieu-Sapin-bateau.webp
END:VEVENT
BEGIN:VEVENT
DTSTART;TZID=Europe/Paris:20240617T113000
DTEND;TZID=Europe/Paris:20240617T140000
DTSTAMP:20260422T064556
CREATED:20240501T101148Z
LAST-MODIFIED:20260416T093822Z
UID:100221-1718623800-1718632800@dej-business.fr
SUMMARY:Comment dompter un fournisseur quand ça part en cacahuète ?
DESCRIPTION:Le soleil n’est pas toujours au beau fixe. Les relations avec clients\, fournisseurs\, partenaires sont parfois tendues. Allez\, on calme le jeu avec notre invitée. Mais comment ? 😀\n🤜Prêt(e) à défier l’Expert dans l’émission et à remporter le tournoi International de pétanque de Balma ? \nAmbiance fun\, pro et décontractée garantie ! \n\n11h30 : Accueil autour d'un verre. 😀\n12h15 : Émission TV interactive :🧠 "Comment dompter un fournisseur/ collaborateur quand ça part en cacahuète ?"🧠  avec une invitée à la hauteur : Gwennan Le Roux.\n13h : Cocktail déjeunatoire\, au soleil !\nLieu : Agence Impact Evolution\, 7 Rte de Pin Balma\, 31130 Balma\nHoraires : (à partir de) 11h30-14h
URL:https://dej-business.fr/event/comment-dompter-un-fournisseur-quand-ca-part-en-cacahuete/
CATEGORIES:dej petanque
ATTACH;FMTTYPE=image/webp:https://dej-business.fr/wp-content/uploads/2024/05/ca-part-en-cacahuete.webp
END:VEVENT
END:VCALENDAR